BEGIN:VCALENDAR
VERSION:2.0
PRODID:-//Tukios.com/
BEGIN:VEVENT
UID:b3956bb3-1547-4187-a18f-743c88d3970f@www.franzen-davis.com
DTSTAMP:20260421T224048Z
DTSTART:20260506T170000Z
DTEND:20260506T180000Z
SUMMARY:Memorial Service
DESCRIPTION:
URL:https://www.franzen-davis.com/obituaries/stella-liebenow
LOCATION: 425 W. Lewis St  Livingston MT 59047
GEO:45.6578945;-110.5631867
END:VEVENT
END:VCALENDAR