BEGIN:VCALENDAR
VERSION:2.0
PRODID:-//Tukios.com/
BEGIN:VEVENT
UID:8fb87ee8-62f4-4713-8e63-31f12cca39f1@www.franzen-davis.com
DTSTAMP:20260421T223454Z
DTSTART:20260506
SUMMARY:Reception
DESCRIPTION:Immediately following the service.
URL:https://www.franzen-davis.com/obituaries/stella-liebenow
LOCATION: 425 W. Lewis St  Livingston MT 59047
GEO:45.6578945;-110.5631867
END:VEVENT
END:VCALENDAR